Workbook

Sheet Master Point Sheet
B1: MEETINGS | C1: VOLUNTEER | D1: SOCIAL | E1: FUNDRAISING | F1: PHILANTHROPY | G1: MISSION TRIP | H1: DIVERSITY | I1: TSHIRT PURCHASE | J1: ACTIVE?
A2: ACTIVE | B2: 3 | C2: 2 | D2: 2 | E2: 2 | F2: 1 | G2: 1 | H2: 1 | I2: 1
B4: =Meetings!B6 -> 0 | C4: =Volunteer!B6 -> 0 | D4: =Social!B6 -> 0 | E4: =Fundraising!B6 -> 0 | F4: =Philanthropy!B6 -> 0 | G4: =MissionTrip!B6 -> 0 | H4: =Diversity!B6 -> 0
B5: =Meetings!B7 -> 0 | C5: =Volunteer!B7 -> 0 | D5: =Social!B7 -> 0 | E5: =Fundraising!B7 -> 0 | F5: =Philanthropy!B7 -> 0 | G5: =MissionTrip!B7 -> 0 | H5: =Diversity!B7 -> 0
B6: =Meetings!B8 -> 0 | C6: =Volunteer!B8 -> 0 | D6: =Social!B8 -> 0 | E6: =Fundraising!B8 -> 0 | F6: =Philanthropy!B8 -> 0 | G6: =MissionTrip!B8 -> 0 | H6: =Diversity!B8 -> 0
B7: =Meetings!B9 -> 0 | C7: =Volunteer!B9 -> 0 | D7: =Social!B9 -> 0 | E7: =Fundraising!B9 -> 0 | F7: =Philanthropy!B9 -> 0 | G7: =MissionTrip!B9 -> 0 | H7: =Diversity!B9 -> 0
B8: =Meetings!B10 -> 0 | C8: =Volunteer!B10 -> 0 | D8: =Social!B10 -> 0 | E8: =Fundraising!B10 -> 0 | F8: =Philanthropy!B10 -> 0 | G8: =MissionTrip!B10 -> 0 | H8: =Diversity!B10 -> 0
B9: =Meetings!B11 -> 0 | C9: =Volunteer!B11 -> 0 | D9: =Social!B11 -> 0 | E9: =Fundraising!B11 -> 0 | F9: =Philanthropy!B11 -> 0 | G9: =MissionTrip!B11 -> 0 | H9: =Diversity!B11 -> 0
B10: =Meetings!B12 -> 0 | C10: =Volunteer!B12 -> 0 | D10: =Social!B12 -> 0 | E10: =Fundraising!B12 -> 0 | F10: =Philanthropy!B12 -> 0 | G10: =MissionTrip!B12 -> 0 | H10: =Diversity!B12 -> 0
B11: =Meetings!B13 -> 0 | C11: =Volunteer!B13 -> 0 | D11: =Social!B13 -> 0 | E11: =Fundraising!B13 -> 0 | F11: =Philanthropy!B13 -> 0 | G11: =MissionTrip!B13 -> 0 | H11: =Diversity!B13 -> 0
B12: =Meetings!B14 -> 0 | C12: =Volunteer!B14 -> 0 | D12: =Social!B14 -> 0 | E12: =Fundraising!B14 -> 0 | F12: =Philanthropy!B14 -> 0 | G12: =MissionTrip!B14 -> 0 | H12: =Diversity!B14 -> 0
B13: =Meetings!B15 -> 0 | C13: =Volunteer!B15 -> 0 | D13: =Social!B15 -> 0 | E13: =Fundraising!B15 -> 0 | F13: =Philanthropy!B15 -> 0 | G13: =MissionTrip!B15 -> 0 | H13: =Diversity!B15 -> 0
B14: =Meetings!B16 -> 0 | C14: =Volunteer!B16 -> 0 | D14: =Social!B16 -> 0 | E14: =Fundraising!B16 -> 0 | F14: =Philanthropy!B16 -> 0 | G14: =MissionTrip!B16 -> 0 | H14: =Diversity!B16 -> 0
B15: =Meetings!B17 -> 0 | C15: =Volunteer!B17 -> 0 | D15: =Social!B17 -> 0 | E15: =Fundraising!B17 -> 0 | F15: =Philanthropy!B17 -> 0 | G15: =MissionTrip!B17 -> 0 | H15: =Diversity!B17 -> 0
... B420: =Meetings!B422 -> 0 | C420: =Volunteer!B422 -> 0 | D420: =Social!B422 -> 0 | E420: =Fundraising!B422 -> 0 | F420: =Philanthropy!B422 -> 0 | G420: =MissionTrip!B422 -> 0 | H420: =Diversity!B422 -> 0
C421: =Volunteer!B423 -> 0 | D421: =Social!B423 -> 0 | E421: =Fundraising!B423 -> 0 | F421: =Philanthropy!B423 -> 0 | G421: =MissionTrip!B423 -> 0 | H421: =Diversity!B423 -> 0
C422: =Volunteer!B424 -> 0 | D422: =Social!B424 -> 0 | E422: =Fundraising!B424 -> 0 | F422: =Philanthropy!B424 -> 0 | G422: =MissionTrip!B424 -> 0 | H422: =Diversity!B424 -> 0
C423: =Volunteer!B425 -> 0 | D423: =Social!B425 -> 0 | E423: =Fundraising!B425 -> 0 | F423: =Philanthropy!B425 -> 0 | G423: =MissionTrip!B425 -> 0 | H423: =Diversity!B425 -> 0
C424: =Volunteer!B426 -> 0 | D424: =Social!B426 -> 0 | E424: =Fundraising!B426 -> 0 | F424: =Philanthropy!B426 -> 0 | G424: =MissionTrip!B426 -> 0 | H424: =Diversity!B426 -> 0
C425: =Volunteer!B427 -> 0 | D425: =Social!B427 -> 0 | E425: =Fundraising!B427 -> 0 | F425: =Philanthropy!B427 -> 0 | G425: =MissionTrip!B427 -> 0 | H425: =Diversity!B427 -> 0
C426: =Volunteer!B428 -> 0 | D426: =Social!B428 -> 0 | E426: =Fundraising!B428 -> 0 | F426: =Philanthropy!B428 -> 0 | G426: =MissionTrip!B428 -> 0 | H426: =Diversity!B428 -> 0
C427: =Volunteer!B429 -> 0 | D427: =Social!B429 -> 0 | E427: =Fundraising!B429 -> 0 | F427: =Philanthropy!B429 -> 0 | G427: =MissionTrip!B429 -> 0 | H427: =Diversity!B429 -> 0
C428: =Volunteer!B430 -> 0 | D428: =Social!B430 -> 0 | E428: =Fundraising!B430 -> 0 | F428: =Philanthropy!B430 -> 0 | G428: =MissionTrip!B430 -> 0 | H428: =Diversity!B430 -> 0
C429: =Volunteer!B431 -> 0 | D429: =Social!B431 -> 0 | E429: =Fundraising!B431 -> 0 | F429: =Philanthropy!B431 -> 0 | G429: =MissionTrip!B431 -> 0 | H429: =Diversity!B431 -> 0
C430: =Volunteer!B432 -> 0 | D430: =Social!B432 -> 0 | E430: =Fundraising!B432 -> 0 | F430: =Philanthropy!B432 -> 0 | G430: =MissionTrip!B432 -> 0 | H430: =Diversity!B432 -> 0
C431: =Volunteer!B433 -> 0 | D431: =Social!B433 -> 0 | F431: =Philanthropy!B433 -> 0 | G431: =MissionTrip!B433 -> 0 | H431: =Diversity!B433 -> 0
C432: =Volunteer!B434 -> 0 | D432: =Social!B434 -> 0 | F432: =Philanthropy!B434 -> 0 | G432: =MissionTrip!B434 -> 0 | H432: =Diversity!B434 -> 0
C433: =Volunteer!B435 -> 0 | D433: =Social!B435 -> 0 | F433: =Philanthropy!B435 -> 0 | G433: =MissionTrip!B435 -> 0 | H433: =Diversity!B435 -> 0
C434: =Volunteer!B436 -> 0 | D434: =Social!B436 -> 0 | F434: =Philanthropy!B436 -> 0 | G434: =MissionTrip!B436 -> 0 | H434: =Diversity!B436 -> 0
C435: =Volunteer!B437 -> 0 | D435: =Social!B437 -> 0 | F435: =Philanthropy!B437 -> 0 | G435: =MissionTrip!B437 -> 0 | H435: =Diversity!B437 -> 0
C436: =Volunteer!B438 -> 0 | D436: =Social!B438 -> 0 | F436: =Philanthropy!B438 -> 0 | G436: =MissionTrip!B438 -> 0 | H436: =Diversity!B438 -> 0
C437: =Volunteer!B439 -> 0 | D437: =Social!B439 -> 0 | F437: =Philanthropy!B439 -> 0 | G437: =MissionTrip!B439 -> 0 | H437: =Diversity!B439 -> 0
C438: =Volunteer!B440 -> 0 | D438: =Social!B440 -> 0 | F438: =Philanthropy!B440 -> 0 | G438: =MissionTrip!B440 -> 0 | H438: =Diversity!B440 -> 0
C439: =Volunteer!B441 -> 0 | D439: =Social!B441 -> 0 | F439: =Philanthropy!B441 -> 0 | G439: =MissionTrip!B441 -> 0 | H439: =Diversity!B441 -> 0
C440: =Volunteer!B442 | D440: =Social!B442 -> 0 | F440: =Philanthropy!B442 -> 0 | G440: =MissionTrip!B442 -> 0 | H440: =Diversity!B442 -> 0
C441: =Volunteer!B443 | D441: =Social!B443 -> 0 | F441: =Philanthropy!B443 -> 0 | G441: =MissionTrip!B443 -> 0 | H441: =Diversity!B443 -> 0
C442: =Volunteer!B444 | D442: =Social!B444 -> 0 | F442: =Philanthropy!B444 -> 0 | G442: =MissionTrip!B444 -> 0 | H442: =Diversity!B444 -> 0
... C453: =Volunteer!B455 | D453: =Social!B455 -> 0 | F453: =Philanthropy!B455 -> 0 | G453: =MissionTrip!B455 -> 0 | H453: =Diversity!B455
C454: =Volunteer!B456 | D454: =Social!B456 -> 0 | F454: =Philanthropy!B456 | H454: =Diversity!B456
C455: =Volunteer!B457 | D455: =Social!B457 | F455: =Philanthropy!B457 | H455: =Diversity!B457
C456: =Volunteer!B458 | D456: =Social!B458 | F456: =Philanthropy!B458 | H456: =Diversity!B458
C457: =Volunteer!B459 | D457: =Social!B459 | H457: =Diversity!B459
D458: =Social!B460 | H458: =Diversity!B460
D459: =Social!B461 | H459: =Diversity!B461
D460: =Social!B462 | H460: =Diversity!B462
D461: =Social!B463 | H461: =Diversity!B463
D462: =Social!B464 | H462: =Diversity!B464
D463: =Social!B465 | H463: =Diversity!B465
D464: =Social!B466
D465: =Social!B467
D466: =Social!B468
D467: =Social!B469
D468: =Social!B470

Sheet Meetings
A1: Meetings | B1: Event Name | C1: GBM 1 (O) | D1: GBM 2 (IP) | E1: GBM 3 (O) | F1: GBM 4 (O) | G1: GBM 5 (IP) | H1: GBM 6 (IP) | I1: GBM 7 (O) | J1: GBM 8 (IP)
B2: Date | C2: 45532 | D2: 45544 | E2: 45560 | F2: 45575 | G2: 45587 | H2: 45603 | I2: 45616 | J2: 45631
B5: Total
A6: ='Master Point Sheet'!A4 | B6: =SUM(C6:AA6) -> 0
A7: ='Master Point Sheet'!A5 | B7: =SUM(C7:AA7) -> 0
A8: ='Master Point Sheet'!A6 | B8: =SUM(C8:AA8) -> 0
A9: ='Master Point Sheet'!A7 | B9: =SUM(C9:AA9) -> 0
A10: ='Master Point Sheet'!A8 | B10: =SUM(C10:AA10) -> 0
A11: ='Master Point Sheet'!A9 | B11: =SUM(C11:AA11) -> 0
A12: ='Master Point Sheet'!A10 | B12: =SUM(C12:AA12) -> 0
A13: ='Master Point Sheet'!A11 | B13: =SUM(C13:AA13) -> 0
A14: ='Master Point Sheet'!A12 | B14: =SUM(C14:AA14) -> 0
A15: ='Master Point Sheet'!A13 | B15: =SUM(C15:AA15) -> 0
A16: ='Master Point Sheet'!A14 | B16: =SUM(C16:AA16) -> 0
A17: ='Master Point Sheet'!A15 | B17: =SUM(C17:AA17) -> 0
... A482: ='Master Point Sheet'!A480 | B482: =SUM(C482:AA482) -> 0
A483: ='Master Point Sheet'!A481
A484: ='Master Point Sheet'!A482
A485: ='Master Point Sheet'!A483
A486: ='Master Point Sheet'!A484
A487: ='Master Point Sheet'!A485
A488: ='Master Point Sheet'!A486
A489: ='Master Point Sheet'!A487
A490: ='Master Point Sheet'!A488
A491: ='Master Point Sheet'!A489
A492: ='Master Point Sheet'!A490
A493: ='Master Point Sheet'!A491
A494: ='Master Point Sheet'!A492
... A509: ='Master Point Sheet'!A507

Sheet Volunteer
A1: Volunteer | B1: Event Name | C1: Bread of the Mighty | D1: Universal Pt | E1: Alachua Heart Walk | F1: Food4Kids | G1: Giving Garden | H1: peacefield | I1: Wilmont Garden | J1: Giving Garden
B2: Date | C2: 45537 | E2: 45418 | F2: 45417 | G2: 45576 | H2: 45584 | I2: 45598 | J2: 45610
B5: Total
A6: ='Master Point Sheet'!A4 | B6: =SUM(C6:AA6) -> 0
A7: ='Master Point Sheet'!A5 | B7: =SUM(C7:AA7) -> 0
A8: ='Master Point Sheet'!A6 | B8: =SUM(C8:AA8) -> 0
A9: ='Master Point Sheet'!A7 | B9: =SUM(C9:AA9) -> 0
A10: ='Master Point Sheet'!A8 | B10: =SUM(C10:AA10) -> 0
A11: ='Master Point Sheet'!A9 | B11: =SUM(C11:AA11) -> 0
A12: ='Master Point Sheet'!A10 | B12: =SUM(C12:AA12) -> 0
A13: ='Master Point Sheet'!A11 | B13: =SUM(C13:AA13) -> 0
A14: ='Master Point Sheet'!A12 | B14: =SUM(C14:AA14) -> 0
A15: ='Master Point Sheet'!A13 | B15: =SUM(C15:AA15) -> 0
A16: ='Master Point Sheet'!A14 | B16: =SUM(C16:AA16) -> 0
A17: ='Master Point Sheet'!A15 | B17: =SUM(C17:AA17) -> 0
... A441: ='Master Point Sheet'!A439 | B441: =SUM(C441:AA441) -> 0

Sheet Fundraising
A1: Fundraising | B1: Event Name | C1: Bento Fundraiser | D1: Pin/Sticker | E1: 50/50 raffle | F1: UF PA school Rush Bowl | G1: Universal Pt | H1: Blaze Fundraiser | I1: Chipotle Fundraiser
B2: Date | C2: 45546 | F2: 45538 | H2: 45608 | I2: 45616
B5: Total
A6: ='Master Point Sheet'!A4 | B6: =SUM(C6:X6) -> 0
A7: ='Master Point Sheet'!A5 | B7: =SUM(C7:X7) -> 0
A8: ='Master Point Sheet'!A6 | B8: =SUM(C8:X8) -> 0
A9: ='Master Point Sheet'!A7 | B9: =SUM(C9:X9) -> 0
A10: ='Master Point Sheet'!A8 | B10: =SUM(C10:X10) -> 0
A11: ='Master Point Sheet'!A9 | B11: =SUM(C11:X11) -> 0
A12: ='Master Point Sheet'!A10 | B12: =SUM(C12:X12) -> 0
A13: ='Master Point Sheet'!A11 | B13: =SUM(C13:X13) -> 0
A14: ='Master Point Sheet'!A12 | B14: =SUM(C14:X14) -> 0
A15: ='Master Point Sheet'!A13 | B15: =SUM(C15:X15) -> 0
A16: ='Master Point Sheet'!A14 | B16: =SUM(C16:X16) -> 0
A17: ='Master Point Sheet'!A15 | B17: =SUM(C17:X17) -> 0
... A438: ='Master Point Sheet'!A436 | B438: =SUM(C438:X438) -> 0
A439: ='Master Point Sheet'!A437
A440: ='Master Point Sheet'!A438
A441: ='Master Point Sheet'!A439
A442: ='Master Point Sheet'!A440

Sheet Philanthropy
A1: Philanthropy | B1: Event Name | C1: Peaceful Paths | D1: Universal Pt | E1: Grace Marketplace | F1: CAC Marketplace | G1: Gift of Life | H1: Giving Garden
B2: Date | C2: Month of September | E2: Month of October | F2: Month of November | G2: 45603 | H2: December
B5: Total
A6: ='Master Point Sheet'!A4 | B6: =SUM(C6:AA6) -> 0
A7: ='Master Point Sheet'!A5 | B7: =SUM(C7:AA7) -> 0
A8: ='Master Point Sheet'!A6 | B8: =SUM(C8:AA8) -> 0
A9: ='Master Point Sheet'!A7 | B9: =SUM(C9:AA9) -> 0
A10: ='Master Point Sheet'!A8 | B10: =SUM(C10:AA10) -> 0
A11: ='Master Point Sheet'!A9 | B11: =SUM(C11:AA11) -> 0
A12: ='Master Point Sheet'!A10 | B12: =SUM(C12:AA12) -> 0
A13: ='Master Point Sheet'!A11 | B13: =SUM(C13:AA13) -> 0
A14: ='Master Point Sheet'!A12 | B14: =SUM(C14:AA14) -> 0
A15: ='Master Point Sheet'!A13 | B15: =SUM(C15:AA15) -> 0
A16: ='Master Point Sheet'!A14 | B16: =SUM(C16:AA16) -> 0
A17: ='Master Point Sheet'!A15 | B17: =SUM(C17:AA17) -> 0
... A455: ='Master Point Sheet'!A453 | B455: =SUM(C455:AA455) -> 0
A456: ='Master Point Sheet'!A454
A457: ='Master Point Sheet'!A455
A458: ='Master Point Sheet'!A456
A459: ='Master Point Sheet'!A457
A460: ='Master Point Sheet'!A458
A461: ='Master Point Sheet'!A459
A462: ='Master Point Sheet'!A460
A463: ='Master Point Sheet'!A461
A464: ='Master Point Sheet'!A462
A465: ='Master Point Sheet'!A463
A466: ='Master Point Sheet'!A464
A467: ='Master Point Sheet'!A465
... A485: ='Master Point Sheet'!A483

Sheet Social
B1: Event Name | C1: Affirmation Board Social | D1: Krishna Lunch Social | E1: make a friend social | F1: Universal Point | G1: Study Social | H1: BZ Gelati | I1: Spider Donut Social | J1: Friendsgiving Social | K1: Yoga social
B2: Date | C2: 45539 | D2: 45555 | E2: semester long | G2: 45567 | H2: 45572 | I2: 45593 | J2: 45602 | K2: 45614
B5: Total
A6: ='Master Point Sheet'!A4 | B6: =SUM(C6:AA6) -> 0
A7: ='Master Point Sheet'!A5 | B7: =SUM(C7:AA7) -> 0
A8: ='Master Point Sheet'!A6 | B8: =SUM(C8:AA8) -> 0
A9: ='Master Point Sheet'!A7 | B9: =SUM(C9:AA9) -> 0
A10: ='Master Point Sheet'!A8 | B10: =SUM(C10:AA10) -> 0
A11: ='Master Point Sheet'!A9 | B11: =SUM(C11:AA11) -> 0
A12: ='Master Point Sheet'!A10 | B12: =SUM(C12:AA12) -> 0
A13: ='Master Point Sheet'!A11 | B13: =SUM(C13:AA13) -> 0
A14: ='Master Point Sheet'!A12 | B14: =SUM(C14:AA14) -> 0
A15: ='Master Point Sheet'!A13 | B15: =SUM(C15:AA15) -> 0
A16: ='Master Point Sheet'!A14 | B16: =SUM(C16:AA16) -> 0
A17: ='Master Point Sheet'!A15 | B17: =SUM(C17:AA17) -> 0
... A456: ='Master Point Sheet'!A454 | B456: =SUM(C456:AA456) -> 0
A457: ='Master Point Sheet'!A455
A458: ='Master Point Sheet'!A456
A459: ='Master Point Sheet'!A457
A460: ='Master Point Sheet'!A458
A461: ='Master Point Sheet'!A459
A462: ='Master Point Sheet'!A460
A463: ='Master Point Sheet'!A461
A464: ='Master Point Sheet'!A462
A465: ='Master Point Sheet'!A463
A466: ='Master Point Sheet'!A464
A467: ='Master Point Sheet'!A465
A468: ='Master Point Sheet'!A466
... A475: ='Master Point Sheet'!A473

Sheet MissionTrip
A1: Mission Trip | B1: Event Name | C1: Mission Trip Donation | D1: Universal | E1: Spanish Language Workshop | F1: Going on Mission Trip | G1: Opus Fundraiser | H1: Jeremiah's Fundraiser | I1: Spanish Language Workshop
B2: Date | E2: 45581 | G2: 45593 | H2: 45598 | I2: 45616
B5: Total
A6: ='Master Point Sheet'!A4 | B6: =SUM(C6:AA6) -> 0
A7: ='Master Point Sheet'!A5 | B7: =SUM(C7:AA7) -> 0
A8: ='Master Point Sheet'!A6 | B8: =SUM(C8:AA8) -> 0
A9: ='Master Point Sheet'!A7 | B9: =SUM(C9:AA9) -> 0
A10: ='Master Point Sheet'!A8 | B10: =SUM(C10:AA10) -> 0
A11: ='Master Point Sheet'!A9 | B11: =SUM(C11:AA11) -> 0
A12: ='Master Point Sheet'!A10 | B12: =SUM(C12:AA12) -> 0
A13: ='Master Point Sheet'!A11 | B13: =SUM(C13:AA13) -> 0
A14: ='Master Point Sheet'!A12 | B14: =SUM(C14:AA14) -> 0
A15: ='Master Point Sheet'!A13 | B15: =SUM(C15:AA15) -> 0
A16: ='Master Point Sheet'!A14 | B16: =SUM(C16:AA16) -> 0
A17: ='Master Point Sheet'!A15 | B17: =SUM(C17:AA17) -> 0
... A485: ='Master Point Sheet'!A483 | B485: =SUM(C485:AA485) -> 0
A486: ='Master Point Sheet'!A484
A487: ='Master Point Sheet'!A485
A488: ='Master Point Sheet'!A486
A489: ='Master Point Sheet'!A487
A490: ='Master Point Sheet'!A488
A491: ='Master Point Sheet'!A489
A492: ='Master Point Sheet'!A490
A493: ='Master Point Sheet'!A491
A494: ='Master Point Sheet'!A492
A495: ='Master Point Sheet'!A493
A496: ='Master Point Sheet'!A494
A497: ='Master Point Sheet'!A495
... A502: ='Master Point Sheet'!A500

Sheet Diversity
A1: Diversity | B1: Event Name | C1: Spanish Workshop | D1: University Pt | E1: Cultural GBM | F1: DEI Prompts | G1: STARR | H1: Spanish language Workshop
B2: Date | C2: 45581 | E2: Semester Long | F2: Semester Long | G2: 45579 | H2: 45616
B5: Total
A6: ='Master Point Sheet'!A4 | B6: =SUM(C6:AA6) -> 0
A7: ='Master Point Sheet'!A5 | B7: =SUM(C7:AA7) -> 0
A8: ='Master Point Sheet'!A6 | B8: =SUM(C8:AA8) -> 0
A9: ='Master Point Sheet'!A7 | B9: =SUM(C9:AA9) -> 0
A10: ='Master Point Sheet'!A8 | B10: =SUM(C10:AA10) -> 0
A11: ='Master Point Sheet'!A9 | B11: =SUM(C11:AA11) -> 0
A12: ='Master Point Sheet'!A10 | B12: =SUM(C12:AA12) -> 0
A13: ='Master Point Sheet'!A11 | B13: =SUM(C13:AA13) -> 0
A14: ='Master Point Sheet'!A12 | B14: =SUM(C14:AA14) -> 0
A15: ='Master Point Sheet'!A13 | B15: =SUM(C15:AA15) -> 0
A16: ='Master Point Sheet'!A14 | B16: =SUM(C16:AA16) -> 0
A17: ='Master Point Sheet'!A15 | B17: =SUM(C17:AA17) -> 0
... A444: ='Master Point Sheet'!A442 | B444: =SUM(C444:AA444) -> 0
A445: ='Master Point Sheet'!A443
A446: ='Master Point Sheet'!A444
A447: ='Master Point Sheet'!A445
A448: ='Master Point Sheet'!A446
A449: ='Master Point Sheet'!A447
A450: ='Master Point Sheet'!A448
A451: ='Master Point Sheet'!A449
A452: ='Master Point Sheet'!A450
A453: ='Master Point Sheet'!A451
A454: ='Master Point Sheet'!A452
A455: ='Master Point Sheet'!A453
A456: ='Master Point Sheet'!A454
... A490: ='Master Point Sheet'!A488

Sheet PPAA Contact List
A1: Name | B1: Role | C1: Phone # | D1: UF Email | E1: Personal Email
A2: Executive Board
A3: Makenna Shaikh | B3: President | C3: (727) 308-8545 | D3: mshaikh1@ufl.edu | E3: makennaashton11@icloud.com
A4: Jospehine Pham | B4: Vice President | C4: (407) 713-8149 | D4: josephine.pham@ufl.edu | E4: josielpham@gmail.com
A5: Taylor Price | B5: Secretary | C5: (407) 913-3339 | D5: pricetaylor@ufl.edu | E5: ttprice726@gmail.com
A6: Kiley Vanness | B6: Treasurer | C6: (407) 748-5423 | D6: kileyvanness@ufl.edu
A7: Jalena Dinh | B7: Volunteer Chair | C7: (813) 405-5755 | D7: jalenadinh@ufl.edu
A8: Isabella Deters | B8: Social Chair | C8: (813) 449-1499 | D8: isabelladeters@ufl.edu
A9: Rebekah Kertz | B9: Philanthropy Chair | C9: (941) 932-2747 | D9: rebekahkertz@ufl.edu
A10: Jenna Ward | B10: Fundraising Chair | C10: (239) 219-4402 | D10: jennaward@ufl.edu | E10: jennalw827@gmail.com
A11: Elizabeth Riley | B11: Merchandise Chair | C11: (941) 786-4359 | D11: elizabeth.riley@ufl.edu | E11: elizabeth8270@gmail.com
A12: Andrea Portillo-Sorto | B12: Public Relations | C12: (813) 369-2111 | D12: aportillosorto@ufl.edu | E12: andreaportillox@gmail.com
A13: Shree Patel | B13: Diversity Chair | C13: (850) 499-2018 | D13: shreepatel@ufl.edu | E13: shreejpatel11@gmail.com
A14: Camryn Boyette | B14: Outreach Chair | C14: (727) 967-3994 | D14: camrynboyette@ufl.edu
